

	
	


BEGIN:VCALENDAR
VERSION:2.0
PRODID:-//wp-events-plugin.com//5.8//EN
BEGIN:VEVENT
UID:6483@ngrc.co.uk
DTSTART:20260724T230000Z
DTEND:20260724T230000Z
DTSTAMP:20260227T222001Z
URL:https://ngrc.co.uk/events/seaford-bay-regatta-4/
SUMMARY:Seaford Bay Regatta
DESCRIPTION:This our club Regatta along with Lewes and Affinity\n\nthere wi
 ll be an opportunity for everyone to row with Mens\, womens\, Mixed and a 
 challenge row for newly competent rowers who have never raced before\n\nSa
 lly\, Caroline and Mark will cox
CATEGORIES:Fixed Squad Row
LOCATION:Pontoon\, Marina\, Newhaven\, What3words / ///tricks.puff.wheat\, 
 United Kingdom
X-APPLE-STRUCTURED-LOCATION;VALUE=URI;X-ADDRESS=Marina\, Newhaven\, What3wo
 rds / ///tricks.puff.wheat\, United Kingdom;X-APPLE-RADIUS=100;X-TITLE=Pon
 toon:geo:0,0
END:VEVENT
END:VCALENDAR