

	
	


BEGIN:VCALENDAR
VERSION:2.0
PRODID:-//wp-events-plugin.com//5.8//EN
BEGIN:VEVENT
UID:6489@ngrc.co.uk
DTSTART;VALUE=DATE:20260912
DTEND;VALUE=DATE:20260913
DTSTAMP:20260227T225359Z
URL:https://ngrc.co.uk/events/great-river-race-3/
SUMMARY:Great River Race
DESCRIPTION:This is a race 0f 23 miles on the river Thames the cost of taki
 ng part is around £150 pp a spectacular day there will only be room for 1
 4 rowers commitment to training is essential Caroline and Rachel will cox 
 at this event
CATEGORIES:Adventure Rows
END:VEVENT
END:VCALENDAR