

	
	


BEGIN:VCALENDAR
VERSION:2.0
PRODID:-//wp-events-plugin.com//5.8//EN
BEGIN:VEVENT
UID:6721@ngrc.co.uk
DTSTART:20260516T230000Z
DTEND:20260516T230000Z
DTSTAMP:20260409T190643Z
URL:https://ngrc.co.uk/events/ergo-training-2-2026-05-17/
SUMMARY:Ergo Training
DESCRIPTION:
CATEGORIES:Ergo Training
LOCATION:The sidings clubhouse\, Railway approach \, Newhaven \, East Susse
 x\, BN9 0DF\, what3words address.  ///nuggets.plays.acrobatic https://w3w.
 co/nuggets.plays.acrobatic\, United Kingdom
X-APPLE-STRUCTURED-LOCATION;VALUE=URI;X-ADDRESS=Railway approach \, Newhave
 n \, East Sussex\, BN9 0DF\, what3words address.  ///nuggets.plays.acrobat
 ic https://w3w.co/nuggets.plays.acrobatic\, United Kingdom;X-APPLE-RADIUS=
 100;X-TITLE=The sidings clubhouse:geo:0,0
END:VEVENT
END:VCALENDAR